BEGIN:VCALENDAR
VERSION:2.0
PRODID:iCalendar-Evo
X-WR-TIMEZONE:US/Mountain
BEGIN:VEVENT
DTSTAMP:20260420THI5610Z
URL:https://www.plattecountywyoming.com/events/90002/
DTSTART;VALUE=DATE:20251111
SUMMARY:Office Closure
DESCRIPTION:PCPH will be closed 11/11/25 in observance of the the Veteran's Day Holiday. We will reopen on 11/12/25 at 8AM.  
UID:cd201407-c13d-4949-9fd5-27f2fde24d2a20251111T150000@www.plattecountywyoming.com
END:VEVENT
END:VCALENDAR