BEGIN:VCALENDAR
VERSION:2.0
PRODID:iCalendar-Evo
X-WR-TIMEZONE:US/Mountain
BEGIN:VEVENT
DTSTAMP:20260422THI1445Z
URL:https://www.plattecountywyoming.com/events/99124/
DTSTART;TZID=US/Mountain:20260513T090000
SUMMARY:Planning & Zoning
DESCRIPTION:Chugwater Energy Center, LLC and Chugwater Wind, LLC, both wholly owned indirect subsidiaries of NextEra Energy Resources, LLC has filed applications for the following: -Rezoning from Ranching, Agricultural and Mining (RAM) to Industrial and Special Use Permit for a Battery Energy Storage System (BESS) Project in Section 6, Township 20 North, Range 65 West, Platte County, Wyoming. -Special Use Permit and Solar Permit for Solar Energy Facility project in a RAM zoning classification in Sections 5 and 6, Township 20 North, Range 65 West, Platte County, Wyoming. -Special Use Permit, Variance Permit and Wind Permit for a Wind Energy Conversion System project located in Sections 1, 2, 3, 11, 12, 13, 14, 15, 22, 23, 24, 25, 26, 27, 28, 33, 34, 35, 36, Township 21 North, Range 66 West and Sections 5, 6, 7, 8, 9, 16, 17, 18, 19, 20, 21, 28, 29, 30, 31, 32, 33, Township 21 North, Range 65 West and Section 12, 13, Township 20 North, Range 67 West and Sections 1, 2, 3, 4, 5, 6, 7, 8, 9, 10, 11, 12, 13, 14, 15, 16, 17, 18, 19, 20, 21, 22, 23, 24, 25, 26, 27, 28, 29, 30, 31, 32, 34, 35, 36, Township 20 North, Range 66 West and Sections 4, 5, 6, 7, 9, 16, 18, 19, Township 20 North, Range 65 West , Platte County, Wyoming.   
LOCATION:Agriplex at 59 Antelope Gap Rd, Wheatland, Wyoming 82201
GEO:42.05320581605638;-104.942558415413
UID:97b21b39-aa57-416f-9304-2c1c60f75a3320260513T150000@www.plattecountywyoming.com
END:VEVENT
END:VCALENDAR